BEGIN:VCALENDAR
VERSION:2.0
PRODID:-//TG Gold Weiss Gelsenkirchen - ECPv6.2.6//NONSGML v1.0//EN
CALSCALE:GREGORIAN
METHOD:PUBLISH
X-WR-CALNAME:TG Gold Weiss Gelsenkirchen
X-ORIGINAL-URL:https://tg-gold-weiss.de
X-WR-CALDESC:Veranstaltungen für TG Gold Weiss Gelsenkirchen
REFRESH-INTERVAL;VALUE=DURATION:PT1H
X-Robots-Tag:noindex
X-PUBLISHED-TTL:PT1H
BEGIN:VTIMEZONE
TZID:Europe/Paris
BEGIN:DAYLIGHT
TZOFFSETFROM:+0100
TZOFFSETTO:+0200
TZNAME:CEST
DTSTART:20260329T010000
END:DAYLIGHT
BEGIN:STANDARD
TZOFFSETFROM:+0200
TZOFFSETTO:+0100
TZNAME:CET
DTSTART:20261025T010000
END:STANDARD
END:VTIMEZONE
BEGIN:VEVENT
DTSTART;VALUE=DATE:20260807
DTEND;VALUE=DATE:20260808
DTSTAMP:20260419T232920
CREATED:20260401T080736Z
LAST-MODIFIED:20260401T080931Z
UID:5116-1786060800-1786147199@tg-gold-weiss.de
SUMMARY:4‑Vereineturnier beim PSV Gelsenkirchen
DESCRIPTION:Am 07.08.2026 richtet der Tennisverein PSV Gelsenkirchen das diesjährige 4‑Vereineturnier aus. Wir freuen uns auf einen sportlichen Tag und spannende Begegnungen. \nWeitere Informationen folgen in Kürze. Website: https://tennis.psv-gelsenkirchen.de/
URL:https://tg-gold-weiss.de/tgg-event/4%e2%80%91vereineturnier-beim-psv-gelsenkirchen/
END:VEVENT
END:VCALENDAR