BEGIN:VCALENDAR
VERSION:2.0
PRODID:-//TG Gold Weiss Gelsenkirchen - ECPv6.2.6//NONSGML v1.0//EN
CALSCALE:GREGORIAN
METHOD:PUBLISH
X-ORIGINAL-URL:https://tg-gold-weiss.de
X-WR-CALDESC:Veranstaltungen für TG Gold Weiss Gelsenkirchen
REFRESH-INTERVAL;VALUE=DURATION:PT1H
X-Robots-Tag:noindex
X-PUBLISHED-TTL:PT1H
BEGIN:VTIMEZONE
TZID:Europe/Paris
BEGIN:DAYLIGHT
TZOFFSETFROM:+0100
TZOFFSETTO:+0200
TZNAME:CEST
DTSTART:20260329T010000
END:DAYLIGHT
BEGIN:STANDARD
TZOFFSETFROM:+0200
TZOFFSETTO:+0100
TZNAME:CET
DTSTART:20261025T010000
END:STANDARD
END:VTIMEZONE
BEGIN:VEVENT
DTSTART;TZID=Europe/Paris:20260314T103000
DTEND;TZID=Europe/Paris:20260314T170000
DTSTAMP:20260419T182627
CREATED:20260307T143315Z
LAST-MODIFIED:20260307T143315Z
UID:5083-1773484200-1773507600@tg-gold-weiss.de
SUMMARY:Pflichtstunden / Platzvorbereitung am 14.03.
DESCRIPTION:Liebe Tennisfreunde\, es wird ja anscheinend endlich Frühling und die Saison kann bald beginnen.\nDazu möchten wir\, auch im Rahmen der Pflichtstunden\, unsere Plätze für die neue Asche vorbereiten. Termin dazu ist der 14.3\, 10:30h.\nNeben den Pflichtstundenteilnehmern hoffen wir natürlich wie in den Vorjahren auch auf die Unterstützung durch die “alte Garde”\, das würde uns sehr freuen.\nIm Rahmen zur Einhaltung der Pflichtstunden werden wir eine entsprechende Liste kurzfristig im Clubhaus aushängen.\nManuel St. könntest Du Dich um die Regenrinnen und Fallrohre kümmern\, Du hattest Dich hierzu ja freundlicherweise angeboten?\nSo\, jetzt schon mal für alle eine tolle Saison\, viel Erfolg und vor allem Spaß und Geselligkeit🎾😊.\nViele Grüße vom Vorstand
URL:https://tg-gold-weiss.de/tgg-event/pflichtstunden-platzvorbereitung-am-14-03/
END:VEVENT
END:VCALENDAR