BEGIN:VCALENDAR
VERSION:2.0
PRODID:-//TG Gold Weiss Gelsenkirchen - ECPv6.2.6//NONSGML v1.0//EN
CALSCALE:GREGORIAN
METHOD:PUBLISH
X-ORIGINAL-URL:https://tg-gold-weiss.de
X-WR-CALDESC:Veranstaltungen für TG Gold Weiss Gelsenkirchen
REFRESH-INTERVAL;VALUE=DURATION:PT1H
X-Robots-Tag:noindex
X-PUBLISHED-TTL:PT1H
BEGIN:VTIMEZONE
TZID:Europe/Paris
BEGIN:DAYLIGHT
TZOFFSETFROM:+0100
TZOFFSETTO:+0200
TZNAME:CEST
DTSTART:20260329T010000
END:DAYLIGHT
BEGIN:STANDARD
TZOFFSETFROM:+0200
TZOFFSETTO:+0100
TZNAME:CET
DTSTART:20261025T010000
END:STANDARD
END:VTIMEZONE
BEGIN:VEVENT
DTSTART;VALUE=DATE:20260807
DTEND;VALUE=DATE:20260808
DTSTAMP:20260420T012356
CREATED:20260401T080736Z
LAST-MODIFIED:20260401T080931Z
UID:5116-1786060800-1786147199@tg-gold-weiss.de
SUMMARY:4‑Vereineturnier beim PSV Gelsenkirchen
DESCRIPTION:Am 07.08.2026 richtet der Tennisverein PSV Gelsenkirchen das diesjährige 4‑Vereineturnier aus. Wir freuen uns auf einen sportlichen Tag und spannende Begegnungen. \nWeitere Informationen folgen in Kürze. Website: https://tennis.psv-gelsenkirchen.de/
URL:https://tg-gold-weiss.de/tgg-event/4%e2%80%91vereineturnier-beim-psv-gelsenkirchen/
END:VEVENT
BEGIN:VEVENT
DTSTART;VALUE=DATE:20260815
DTEND;VALUE=DATE:20260816
DTSTAMP:20260420T012356
CREATED:20260401T081902Z
LAST-MODIFIED:20260401T081902Z
UID:5122-1786752000-1786838399@tg-gold-weiss.de
SUMMARY:LK‑Tagesturnier der Herren 2026
DESCRIPTION:Am 15.08.2026 findet unser LK‑Tagesturnier der Herren statt. Wir freuen uns auf einen intensiven Wettkampftag mit vielen spannenden Matches. \nWeitere Informationen zu Anmeldung\, Ablauf und Startzeiten folgen in Kürze.
URL:https://tg-gold-weiss.de/tgg-event/lk%e2%80%91tagesturnier-der-herren-2026/
END:VEVENT
BEGIN:VEVENT
DTSTART;VALUE=DATE:20260816
DTEND;VALUE=DATE:20260817
DTSTAMP:20260420T012356
CREATED:20260401T082014Z
LAST-MODIFIED:20260401T082436Z
UID:5124-1786838400-1786924799@tg-gold-weiss.de
SUMMARY:LK‑Tagesturnier der Damen 2026
DESCRIPTION:Am 16.08.2026 findet unser LK‑Tagesturnier der Damen statt. Wir freuen uns auf einen intensiven Wettkampftag mit vielen spannenden Matches. \nWeitere Informationen zu Anmeldung\, Ablauf und Startzeiten folgen in Kürze.
URL:https://tg-gold-weiss.de/tgg-event/lk%e2%80%91tagesturnier-der-herren-2026-2/
END:VEVENT
BEGIN:VEVENT
DTSTART;VALUE=DATE:20260822
DTEND;VALUE=DATE:20260831
DTSTAMP:20260420T012356
CREATED:20260401T081251Z
LAST-MODIFIED:20260401T081251Z
UID:5120-1787356800-1788134399@tg-gold-weiss.de
SUMMARY:Clubmeisterschaften 2026
DESCRIPTION:Vom 22.08. bis 30.08.2026 finden unsere diesjährigen Clubmeisterschaften statt. Wir freuen uns auf eine sportliche Turnierwoche mit vielen spannenden Matches und guter Stimmung auf der Anlage. \nWeitere Informationen zu Ablauf\, Anmeldung und Spielplänen folgen in Kürze.
URL:https://tg-gold-weiss.de/tgg-event/clubmeisterschaften-2026/
END:VEVENT
END:VCALENDAR